BEGIN:VCALENDAR
VERSION:2.0
PRODID:-//Carlisle Diocesan Guild of Church Bell Ringers - ECPv6.15.11//NONSGML v1.0//EN
CALSCALE:GREGORIAN
METHOD:PUBLISH
X-WR-CALNAME:Carlisle Diocesan Guild of Church Bell Ringers
X-ORIGINAL-URL:https://cumbriabellringing.org.uk
X-WR-CALDESC:Events for Carlisle Diocesan Guild of Church Bell Ringers
REFRESH-INTERVAL;VALUE=DURATION:PT1H
X-Robots-Tag:noindex
X-PUBLISHED-TTL:PT1H
BEGIN:VTIMEZONE
TZID:Europe/London
BEGIN:DAYLIGHT
TZOFFSETFROM:+0000
TZOFFSETTO:+0100
TZNAME:BST
DTSTART:20220327T010000
END:DAYLIGHT
BEGIN:STANDARD
TZOFFSETFROM:+0100
TZOFFSETTO:+0000
TZNAME:GMT
DTSTART:20221030T010000
END:STANDARD
BEGIN:DAYLIGHT
TZOFFSETFROM:+0000
TZOFFSETTO:+0100
TZNAME:BST
DTSTART:20230326T010000
END:DAYLIGHT
BEGIN:STANDARD
TZOFFSETFROM:+0100
TZOFFSETTO:+0000
TZNAME:GMT
DTSTART:20231029T010000
END:STANDARD
BEGIN:DAYLIGHT
TZOFFSETFROM:+0000
TZOFFSETTO:+0100
TZNAME:BST
DTSTART:20240331T010000
END:DAYLIGHT
BEGIN:STANDARD
TZOFFSETFROM:+0100
TZOFFSETTO:+0000
TZNAME:GMT
DTSTART:20241027T010000
END:STANDARD
BEGIN:DAYLIGHT
TZOFFSETFROM:+0000
TZOFFSETTO:+0100
TZNAME:BST
DTSTART:20250330T010000
END:DAYLIGHT
BEGIN:STANDARD
TZOFFSETFROM:+0100
TZOFFSETTO:+0000
TZNAME:GMT
DTSTART:20251026T010000
END:STANDARD
BEGIN:DAYLIGHT
TZOFFSETFROM:+0000
TZOFFSETTO:+0100
TZNAME:BST
DTSTART:20260329T010000
END:DAYLIGHT
BEGIN:STANDARD
TZOFFSETFROM:+0100
TZOFFSETTO:+0000
TZNAME:GMT
DTSTART:20261025T010000
END:STANDARD
BEGIN:DAYLIGHT
TZOFFSETFROM:+0000
TZOFFSETTO:+0100
TZNAME:BST
DTSTART:20270328T010000
END:DAYLIGHT
BEGIN:STANDARD
TZOFFSETFROM:+0100
TZOFFSETTO:+0000
TZNAME:GMT
DTSTART:20271031T010000
END:STANDARD
END:VTIMEZONE
BEGIN:VEVENT
DTSTART;VALUE=DATE:20260509
DTEND;VALUE=DATE:20260510
DTSTAMP:20260421T145407
CREATED:20250928T202128Z
LAST-MODIFIED:20250928T202128Z
UID:8533-1778284800-1778371199@cumbriabellringing.org.uk
SUMMARY:Guild Striking Competition - Hensingham
DESCRIPTION:
URL:https://cumbriabellringing.org.uk/event/guild-striking-competition-hensingham/
END:VEVENT
BEGIN:VEVENT
DTSTART;TZID=Europe/London:20260418T150000
DTEND;TZID=Europe/London:20260418T183000
DTSTAMP:20260421T145407
CREATED:20250928T202022Z
LAST-MODIFIED:20260316T134051Z
UID:8530-1776524400-1776537000@cumbriabellringing.org.uk
SUMMARY:Guild Ringing and AGM - St Bees
DESCRIPTION:Our Guild AGM is being held at St Bees this year.  Timings will be \n15:00 Ringing \n16:30 Service \n17:00 Bring and share Tea \nAGM business meeting will follow the Tea.
URL:https://cumbriabellringing.org.uk/event/guild-agm-st-bees/
END:VEVENT
BEGIN:VEVENT
DTSTART;VALUE=DATE:20260416
DTEND;VALUE=DATE:20260417
DTSTAMP:20260421T145407
CREATED:20260124T162904Z
LAST-MODIFIED:20260124T162904Z
UID:8632-1776297600-1776383999@cumbriabellringing.org.uk
SUMMARY:2026 Bell Advisors Conference
DESCRIPTION:
URL:https://cumbriabellringing.org.uk/event/2026-bell-advisors-conference/
LOCATION:Carlisle Cathedral\, Carlisle Cathedral\, CA3 8TZ\, United Kingdom
CATEGORIES:National
END:VEVENT
BEGIN:VEVENT
DTSTART;TZID=Europe/London:20260317T204500
DTEND;TZID=Europe/London:20260317T213000
DTSTAMP:20260421T145407
CREATED:20260124T160633Z
LAST-MODIFIED:20260124T160938Z
UID:8625-1773780300-1773783000@cumbriabellringing.org.uk
SUMMARY:Eastern Branch AGM
DESCRIPTION:
URL:https://cumbriabellringing.org.uk/event/eastern-branch-agm-2/
LOCATION:Penrith\, Penrith\, CA11 7YA\, United Kingdom
CATEGORIES:Eastern Branch
END:VEVENT
BEGIN:VEVENT
DTSTART;TZID=Europe/London:20260307T173000
DTEND;TZID=Europe/London:20260307T190000
DTSTAMP:20260421T145407
CREATED:20260124T161100Z
LAST-MODIFIED:20260124T161100Z
UID:8629-1772904600-1772910000@cumbriabellringing.org.uk
SUMMARY:Western Branch AGM
DESCRIPTION:
URL:https://cumbriabellringing.org.uk/event/western-branch-agm-3/
LOCATION:Arlecdon Church\, Arlecdon \, CA14 4RT\, United Kingdom
CATEGORIES:Western Branch
END:VEVENT
BEGIN:VEVENT
DTSTART;VALUE=DATE:20260110
DTEND;VALUE=DATE:20260111
DTSTAMP:20260421T145407
CREATED:20250928T201919Z
LAST-MODIFIED:20251211T182529Z
UID:8527-1768003200-1768089599@cumbriabellringing.org.uk
SUMMARY:Guild Ringing Meeting at Workington
DESCRIPTION:3.00pm Ringing \n4.30pm Service \n5.00pm Bring and Share Tea followed by a short Business meeting.
URL:https://cumbriabellringing.org.uk/event/guild-ringing-meeting-at-workington/
LOCATION:Workington\, Workington\, CA14 2EZ\, United Kingdom
END:VEVENT
BEGIN:VEVENT
DTSTART;TZID=Europe/London:20250510T140000
DTEND;TZID=Europe/London:20250510T180000
DTSTAMP:20260421T145407
CREATED:20241222T155755Z
LAST-MODIFIED:20250326T180548Z
UID:8062-1746885600-1746900000@cumbriabellringing.org.uk
SUMMARY:Guild Striking Competition
DESCRIPTION:The striking competition will be held in the afternoon at St Andrew’s church\, Greystoke. The judge will be announced in due course. There are the usual two competitions – the Call Change Band and the Method Band competition. All bands are expected to ring something of a similar complexity to what they would normally ring together. It is expected that the Call Change band contains two ringers that have not rung a quarter peal (on any working bell\, including the treble). \nThe competition is just for fun – it’s the taking part that matters! Unless you win – then it’s the winning that matters! There are trophies to be won and certificates for ALL bands – so you won’t go away empty-handed. \nThe anticipated schedule is as follows: \n14.00    Bells available for practice \n14.45    Draw for ringing order \n15.00    Competition Begins \nBring and share tea to follow. \nThe striking competition rules can be found here
URL:https://cumbriabellringing.org.uk/event/8062/
END:VEVENT
BEGIN:VEVENT
DTSTART;VALUE=DATE:20250426
DTEND;VALUE=DATE:20250427
DTSTAMP:20260421T145407
CREATED:20241228T160208Z
LAST-MODIFIED:20241228T160208Z
UID:8088-1745625600-1745711999@cumbriabellringing.org.uk
SUMMARY:Borders Mini Bells at Dalemain
DESCRIPTION:Once again the Borders Mini Bells will be promoting ringing at the Annual Marmalade Festival at Dalemain. Come along and enjoy a lovely day out – sample some marmalade and have a ring on the Mini Bells. It’s always a lovely day!
URL:https://cumbriabellringing.org.uk/event/borders-mini-bells-at-dalemain/
END:VEVENT
BEGIN:VEVENT
DTSTART;TZID=Europe/London:20250405T150000
DTEND;TZID=Europe/London:20250405T180000
DTSTAMP:20260421T145407
CREATED:20241228T155652Z
LAST-MODIFIED:20250306T144354Z
UID:8084-1743865200-1743876000@cumbriabellringing.org.uk
SUMMARY:Guild Ringing Gathering and AGM - at Brampton and Cathedral*
DESCRIPTION:Our Guild AGM is being held in at St Martin’s\, Brampton this year\, with ringing also available at the Cathedral from 1.30pm – 2.30pm*.  Timings at Brampton will be \n15:00 Ringing \n16:30 Service \n17:00 Bring and share Tea \nAGM business meeting will follow the Tea. \n\n* Ringing at the Cathedral is still subject to agreement by the Chapter – please check back.
URL:https://cumbriabellringing.org.uk/event/guild-ringing-and-agm/
END:VEVENT
BEGIN:VEVENT
DTSTART;TZID=Europe/London:20250325T190000
DTEND;TZID=Europe/London:20250325T210000
DTSTAMP:20260421T145407
CREATED:20241228T155352Z
LAST-MODIFIED:20241228T160319Z
UID:8080-1742929200-1742936400@cumbriabellringing.org.uk
SUMMARY:Eastern Branch AGM
DESCRIPTION:At St Andrew’s Church\, Penrith
URL:https://cumbriabellringing.org.uk/event/eastern-area-agm/
END:VEVENT
BEGIN:VEVENT
DTSTART;TZID=Europe/London:20250301T150000
DTEND;TZID=Europe/London:20250301T180000
DTSTAMP:20260421T145407
CREATED:20240305T195732Z
LAST-MODIFIED:20240305T195819Z
UID:7509-1740841200-1740852000@cumbriabellringing.org.uk
SUMMARY:Western Branch AGM
DESCRIPTION:At St Bridget’s Church\, Moresby.
URL:https://cumbriabellringing.org.uk/event/western-branch-agm-2/
CATEGORIES:Western Branch
END:VEVENT
BEGIN:VEVENT
DTSTART;TZID=Europe/London:20250111T150000
DTEND;TZID=Europe/London:20250111T180000
DTSTAMP:20260421T145407
CREATED:20241222T155601Z
LAST-MODIFIED:20241222T155601Z
UID:8059-1736607600-1736618400@cumbriabellringing.org.uk
SUMMARY:Guild Ringing Meeting with Service and Tea
DESCRIPTION:Guild meeting with service and tea:  \nRingers of all abilities welcome \n3.00pm Ringing \n4.30pm Service \n5.00pm Bring and Share Tea followed by a short Business meeting \nThe bells will be available after the business meeting.
URL:https://cumbriabellringing.org.uk/event/guild-ringing-meeting-with-service-and-tea/
LOCATION:Workington\, Workington\, CA14 2EZ\, United Kingdom
CATEGORIES:Guild
END:VEVENT
BEGIN:VEVENT
DTSTART;VALUE=DATE:20240606
DTEND;VALUE=DATE:20240607
DTSTAMP:20260421T145407
CREATED:20240405T142532Z
LAST-MODIFIED:20240405T142532Z
UID:7566-1717632000-1717718399@cumbriabellringing.org.uk
SUMMARY:80th Anniversary of the D-Day Landings
DESCRIPTION:How should the Guild mark this historic occasion?
URL:https://cumbriabellringing.org.uk/event/80th-anniversary-of-the-d-day-landings/
END:VEVENT
BEGIN:VEVENT
DTSTART;VALUE=DATE:20240512
DTEND;VALUE=DATE:20240513
DTSTAMP:20260421T145407
CREATED:20240405T140157Z
LAST-MODIFIED:20240405T140157Z
UID:7557-1715472000-1715558399@cumbriabellringing.org.uk
SUMMARY:Bell Sunday
DESCRIPTION:Find out more about this CCCBR annual celebration of bellringing at bellsunday.org
URL:https://cumbriabellringing.org.uk/event/bell-sunday-2/
END:VEVENT
BEGIN:VEVENT
DTSTART;TZID=Europe/London:20240511T140000
DTEND;TZID=Europe/London:20240511T180000
DTSTAMP:20260421T145407
CREATED:20231029T142735Z
LAST-MODIFIED:20240504T141650Z
UID:7315-1715436000-1715450400@cumbriabellringing.org.uk
SUMMARY:Guild Striking Competition
DESCRIPTION:The striking competition will be held in the afternoon at Cockermouth.  The Judge will be Anne Pettifor from Lancaster. There are the usual two competitions – the Call Change Band and the Method Band competition. All bands are expected to ring something of a similar complexity to what they would normally ring together. It is expected that the Call Change band contains two ringers that have not rung a quarter peal (on any working bell\, including the treble). \nThe competition is just for fun – it’s the taking part that matters! Unless you win – then it’s the winning that matters! There are trophies to be won and certificates for ALL bands – so you won’t go away empty-handed. \nThe schedule is as follows: \n14.00    Bells available for practice \n14.45    Draw for ringing order \n15.00    Competition Begins \nBring and share tea to follow. \nThe striking competition rules can be found here
URL:https://cumbriabellringing.org.uk/event/7315/
END:VEVENT
BEGIN:VEVENT
DTSTART;TZID=Europe/London:20240427T150000
DTEND;TZID=Europe/London:20240427T183000
DTSTAMP:20260421T145407
CREATED:20231029T141437Z
LAST-MODIFIED:20231215T182645Z
UID:7308-1714230000-1714242600@cumbriabellringing.org.uk
SUMMARY:Guild ringing gathering and AGM
DESCRIPTION:Our Guild AGM is being held at Wigton this year.  Timings are \n15:00 Ringing \n16:30 Service \n17:00 Bring and share Tea \nAGM business meeting will follow the Tea.
URL:https://cumbriabellringing.org.uk/event/guild-ringing-gathering-and-agm/
END:VEVENT
BEGIN:VEVENT
DTSTART;TZID=Europe/London:20240319T190000
DTEND;TZID=Europe/London:20240319T210000
DTSTAMP:20260421T145407
CREATED:20240108T185959Z
LAST-MODIFIED:20240115T171109Z
UID:7422-1710874800-1710882000@cumbriabellringing.org.uk
SUMMARY:Eastern Branch AGM
DESCRIPTION:At St Andrew’s\, Penrith
URL:https://cumbriabellringing.org.uk/event/eastern-branch-agm/
END:VEVENT
BEGIN:VEVENT
DTSTART;VALUE=DATE:20240309
DTEND;VALUE=DATE:20240310
DTSTAMP:20260421T145407
CREATED:20231109T094559Z
LAST-MODIFIED:20231109T094559Z
UID:7335-1709942400-1710028799@cumbriabellringing.org.uk
SUMMARY:10th Anniversary - March ringing meeting & Walk at Barrow
DESCRIPTION:March 9th 2024 marks the 10th anniversary of the rededication service for the bells at St James Barrow after the restoration project. To celebrate the LACR Furness & South Lakeland branch will hold their March ringing meeting on that day at Barrow.  Ringers from CDGCBR will be very welcome to join them to ring and at a meal afterwards. Andy Pollock is also planning a “meandyring” walk locally in the morning. Everyone is welcome and it will be especially pleasing if some of those involved in the project could join in. Further details will be available in the New Year – so pencil it in your diaries now.
URL:https://cumbriabellringing.org.uk/event/10th-anniversary-march-ringing-meeting-walk-at-barrow/
ORGANIZER;CN="Andy Pollock":MAILTO:ringing@barrowbells.org.uk
END:VEVENT
BEGIN:VEVENT
DTSTART;TZID=Europe/London:20240302T150000
DTEND;TZID=Europe/London:20240302T180000
DTSTAMP:20260421T145407
CREATED:20231029T142134Z
LAST-MODIFIED:20231215T182553Z
UID:7313-1709391600-1709402400@cumbriabellringing.org.uk
SUMMARY:Western Branch AGM
DESCRIPTION:Ringing at Cockermouth followed by Service and AGM at Bridekirk – and more ringing
URL:https://cumbriabellringing.org.uk/event/western-branch-agm/
END:VEVENT
BEGIN:VEVENT
DTSTART;TZID=Europe/London:20240113T150000
DTEND;TZID=Europe/London:20240113T190000
DTSTAMP:20260421T145407
CREATED:20231029T141017Z
LAST-MODIFIED:20231029T142024Z
UID:7306-1705158000-1705172400@cumbriabellringing.org.uk
SUMMARY:Guild Ringing Meeting - Workington
DESCRIPTION:Guild meeting with service and tea:  \nRingers of all abilities welcome \n3.00pm Ringing \n4.30pm Service \n5.00pm Bring and Share Tea followed by a short Business meeting \nThe bells will be available after the business meeting. \n 
URL:https://cumbriabellringing.org.uk/event/guild-ringing-meeting-workington/
END:VEVENT
BEGIN:VEVENT
DTSTART;TZID=Europe/London:20231221T103000
DTEND;TZID=Europe/London:20231221T163000
DTSTAMP:20260421T145407
CREATED:20231215T181105Z
LAST-MODIFIED:20231215T181226Z
UID:7389-1703154600-1703176200@cumbriabellringing.org.uk
SUMMARY:Cumbrian Codgers outing
DESCRIPTION:Christmas outing Thursday 21st December \n10.30-11.30:   St Mary’s\, Wigton CA7 9JR \n12.30-14.45:   St Kentigern\, Crosthwaite\, Keswick CA12 5QG:\n12.30-13.45:   “Bring you own” lunch and Christmas fun (in the church schoolroom)\n13.45-14.45:   Ringing \n15.30-16.30:   All Saints\, Cockermouth CA13 9PJ
URL:https://cumbriabellringing.org.uk/event/cumbrian-codgers-outing-6/
ORGANIZER;CN="David Horne":MAILTO:grandsire.caters@gmail.com
END:VEVENT
BEGIN:VEVENT
DTSTART;VALUE=DATE:20231123
DTEND;VALUE=DATE:20231124
DTSTAMP:20260421T145407
CREATED:20231109T093414Z
LAST-MODIFIED:20231109T093414Z
UID:7333-1700697600-1700783999@cumbriabellringing.org.uk
SUMMARY:Cumbrian Codgers outing
DESCRIPTION:
URL:https://cumbriabellringing.org.uk/event/cumbrian-codgers-outing-5/
ORGANIZER;CN="David Horne":MAILTO:grandsire.caters@gmail.com
END:VEVENT
BEGIN:VEVENT
DTSTART;TZID=Europe/London:20231118T160000
DTEND;TZID=Europe/London:20231118T173000
DTSTAMP:20260421T145407
CREATED:20231029T145009Z
LAST-MODIFIED:20231029T145107Z
UID:7326-1700323200-1700328600@cumbriabellringing.org.uk
SUMMARY:Surprise Major Practice
DESCRIPTION:The usual 3rd Saturday surprise major practice arranged by Norman Brock – at St Mary’s\, Wigton
URL:https://cumbriabellringing.org.uk/event/surprise-major-practice-7/
ORGANIZER;CN="Norman Brock":MAILTO:nbrock@sky.com
END:VEVENT
BEGIN:VEVENT
DTSTART;VALUE=DATE:20231019
DTEND;VALUE=DATE:20231020
DTSTAMP:20260421T145407
CREATED:20230607T102906Z
LAST-MODIFIED:20231004T182956Z
UID:7113-1697673600-1697759999@cumbriabellringing.org.uk
SUMMARY:Cumbrian Codgers outing
DESCRIPTION:** Please note:  all replies to tony.ruberry@gmail.com **\n\nThe next Cumbrian Codgers trip will be on Thursday 19th October to the south Lake District.  The itinerary in outline is:\n10:00 – 11:00 St Michael Hawkshead\n11:30 – 12:30 – Holy Trinity\, Brathay\n12:45 – 14:45 – Lunch in the Talbot Bar\, Skelwith Bridge\n15:15 – 16:15 St Mary\, Ambleside\n\nPlease note that we have been asked for somewhat larger donations than usual\, so I will be asking for £2 per tower.  Since it has been £1 for such a long time\, I think that this is reasonable.  Please bring change if possible!\nWe will need to pre-order lunches.  The menu can be found here:\nhttps://www.skelwithbridgehotel.co.uk/talbot-bar/food/\nNote that some things on the main menu are only available from 5:00 p.m. but that ciabatta baguettes are available at lunchtime.  Let me know if you will be coming on the outing\, and also\, if you want to join us for lunch\, please let me have orders by Wednesday 11th October.\nI hope to see you then\, and please remember to reply to me and not David!\nTony
URL:https://cumbriabellringing.org.uk/event/cumbrian-codgers-outing-4/
CATEGORIES:Codgers
ORGANIZER;CN="David Horne":MAILTO:grandsire.caters@gmail.com
END:VEVENT
BEGIN:VEVENT
DTSTART;VALUE=DATE:20230921
DTEND;VALUE=DATE:20230922
DTSTAMP:20260421T145407
CREATED:20230607T102625Z
LAST-MODIFIED:20230915T130005Z
UID:7108-1695254400-1695340799@cumbriabellringing.org.uk
SUMMARY:Cumbrian Codgers outing
DESCRIPTION:We’re visiting Furness again this month. Gordon & Soo Gray have set up three nice rings – a six\, an eight and a twelve – and a good lunch for us\, so many thanks to them. \nLunch is at “The General Burgoyne” in Great Urswick. The menu is changing and will be sent when available. Please let me know if you’re coming\, and if you’d like lunch\, by next Monday 18th September. \nYou may be relieved to know that it won’t be an early start this month (unless you’re coming a very long way)\, so thank you Gordon & Soo! \n11.00 – 12.00:  St. Mary\, Great Urswick (LA12 0TA) \n12.00 – 14.00:  LUNCH at The General Burgoyne\, Great Urswick (LA12 0SZ) \n(11 miles\, 20 mins to….) \n14.30 – 15:30:  St Cuthbert\, Kirkby Ireleth (LA17 7TG) \n(5 miles\, 10 mins to….) \n16.00 – 17:00:  St Mary Magdalene\, Broughton in Furness (LA20 6HA) \nAs always\, it will be very helpful if you could let me know in advance that you’re intending to come\, but if it’s a last minute decision\, please just rock up anyway!
URL:https://cumbriabellringing.org.uk/event/cumbrian-codgers-outing-2/
CATEGORIES:Codgers
ORGANIZER;CN="David Horne":MAILTO:grandsire.caters@gmail.com
END:VEVENT
BEGIN:VEVENT
DTSTART;TZID=Europe/London:20230819T160000
DTEND;TZID=Europe/London:20230819T173000
DTSTAMP:20260421T145407
CREATED:20230131T223143Z
LAST-MODIFIED:20230730T122139Z
UID:6921-1692460800-1692466200@cumbriabellringing.org.uk
SUMMARY:Surprise Major practice
DESCRIPTION:The usual 3rd Saturday surprise major practice – at St Mary’s\, Wigton
URL:https://cumbriabellringing.org.uk/event/surprise-major-practice-3/
LOCATION:Wigton\, Wigton\, CA7 9NJ\, United Kingdom
CATEGORIES:Surprise Major Practice
ORGANIZER;CN="Norman Brock":MAILTO:nbrock@sky.com
END:VEVENT
BEGIN:VEVENT
DTSTART;VALUE=DATE:20230817
DTEND;VALUE=DATE:20230818
DTSTAMP:20260421T145407
CREATED:20230607T102516Z
LAST-MODIFIED:20230812T102359Z
UID:7105-1692230400-1692316799@cumbriabellringing.org.uk
SUMMARY:Cumbrian Codgers outing 17th August
DESCRIPTION:This month’s outing is to Furness. There are three rings of bells lined up for us\, I am being slightly self-indulgent this month as these are all favourites of mine. \nLunch is at “The Brown Cow”\, Dalton in Furness – please be sure to let me have your pre-orders in time david.horne@the-hornes.org.uk / 07847 433117 \nIt will be an earlier than usual start for most of us – unless you’re coming from the “Cumbrian Riviera” that is – but I’m sure it will be worth it. Please do try to get along this month. \n10.30 – 11.30:  St John the Baptist\, Flookburgh (LA11 7JY) – TBC    The 8 bells with a 17cwt tenor require some effort to ring well but repay the effort with a beautiful tone. You are sure to enjoy ringing these bells and hopefully we will have enough “Codgers” to ring them well. They sound really nice to Stedman\, Grandsire or even plain bob (triples and major). NB: awaiting confirmation at time of writing. \n12.30 – 13.30:  St James the Great\, Barrow in Furness (LA14 5UE)   Until restoration\, this 12cwt eight had been practically unringable since 1999. After much hard work fund raising (and working on the installation) by the Barrow ringers and friends\, the bells were re-dedicated in March 2014. All the bells were refurbished by Whitechapel using a new method of tuning taking metal from the outside lip\, the first time for a complete ring of bells. \n14.00 LUNCH at The Brown Cow\, Dalton in Furness (LA15 8LQ)   The “Brown Cow” dates from the 1500’s. It is located just below the church\, two minutes walk away but at the bottom of a hill. It serves a wide range of food and some excellent beers. Menus are attached\, please be sure to let me know starter & main choices by Monday 14th. Don’t imbibe too much as we have 10 bells to ring afterwards! \n15.30 – 16:30:  St Mary\, Dalton in Furness (LA15 8LH)   This should be an excellent rounding off to the day. The 10 bells are a sonorous 21½cwt – Taylors at the height of their powers – and should be ideal for some nice plain courses or touches of Stedman and Grandsire caters. If you plan to come\, please take a look at Double Norwich caters\, it’s just major with an extra hunt bell (honestly!) \nI need your lunch pre-orders (starter if desired\, and main) by Monday 14th at latest please. \nAs always\, it will be very helpful if you could let me know in advance that you’re intending to come\, but if it’s a last minute decision\, please just rock up anyway!
URL:https://cumbriabellringing.org.uk/event/cumbrian-codgers-outing/
CATEGORIES:Codgers
ORGANIZER;CN="David Horne":MAILTO:grandsire.caters@gmail.com
END:VEVENT
BEGIN:VEVENT
DTSTART;TZID=Europe/London:20230720T103000
DTEND;TZID=Europe/London:20230720T163000
DTSTAMP:20260421T145407
CREATED:20230607T102801Z
LAST-MODIFIED:20230714T092407Z
UID:7111-1689849000-1689870600@cumbriabellringing.org.uk
SUMMARY:Cumbrian Codgers outing - July 20th
DESCRIPTION:Thursday 20th July 2023\n10.30–11.30 St Kentigern\, Crosthwaite\, Keswick (TBC)\n8 bells with a tenor of 12-2-24. A pleasant ground floor ring. I’ll confirm Keswick (or alternative) in due course (CA12 5RA). \n12.00–13.00 All Saints\, Cockermouth\n8 Bells with a tenor of 12-1-11. Another enjoyable ring with a lovely tone\, enhanced by the spire. (CA13 9PJ) \nLunch 13.45 – 15.00 at “The Manor”\, St Bees\nOur traditional favourite watering hole\, just a few minutes walk from the priory church. Please make your lunch choice from menu sent out in email by Monday 17th July. (CA27 0DE) \n15.30–16.30 St Mary & St Bega\, St Bees\nAnother 8 bell tower with a large ringing room\, a good meaty ring and tenor of 13-0-10 to finish off the day. If you still want more ice cream afterwards (or beforehand)\, Hartley’s Cafe by the beach car park is highly recommended. (CA27 0DR). \nSpecial Methods: Original triples (available from David Horne) if there are enough of us.\nNames for lunch and menu choice to David Horne (email david.horne@thehornes.org.uk ) by midnight Monday 17th July at the latest please. No name – no lunch! Family and friends (ringing and non-ringing) are welcome\, don’t forget this is a social occasion as well as a ringing outing.
URL:https://cumbriabellringing.org.uk/event/cumbrian-codgers-outing-3/
CATEGORIES:Codgers
ORGANIZER;CN="David Horne":MAILTO:grandsire.caters@gmail.com
END:VEVENT
BEGIN:VEVENT
DTSTART;TZID=Europe/London:20230715T160000
DTEND;TZID=Europe/London:20230715T173000
DTSTAMP:20260421T145407
CREATED:20230706T101955Z
LAST-MODIFIED:20230706T101955Z
UID:7054-1689436800-1689442200@cumbriabellringing.org.uk
SUMMARY:Surprise Major practice
DESCRIPTION:
URL:https://cumbriabellringing.org.uk/event/surprise-major-practice-6/
LOCATION:Wigton\, Wigton\, CA7 9NJ\, United Kingdom
END:VEVENT
BEGIN:VEVENT
DTSTART;TZID=Europe/London:20230617T160000
DTEND;TZID=Europe/London:20230617T173000
DTSTAMP:20260421T145407
CREATED:20230607T110241Z
LAST-MODIFIED:20230607T110454Z
UID:7129-1687017600-1687023000@cumbriabellringing.org.uk
SUMMARY:Surprise Major Practice
DESCRIPTION:
URL:https://cumbriabellringing.org.uk/event/surprise-major-practice-5/
LOCATION:Wigton\, Wigton\, CA7 9NJ\, United Kingdom
CATEGORIES:Surprise Major Practice
ORGANIZER;CN="Norman Brock":MAILTO:nbrock@sky.com
END:VEVENT
END:VCALENDAR