BEGIN:VCALENDAR
VERSION:2.0
PRODID:-//Carlisle Diocesan Guild of Church Bell Ringers - ECPv6.15.11//NONSGML v1.0//EN
CALSCALE:GREGORIAN
METHOD:PUBLISH
X-ORIGINAL-URL:https://cumbriabellringing.org.uk
X-WR-CALDESC:Events for Carlisle Diocesan Guild of Church Bell Ringers
REFRESH-INTERVAL;VALUE=DURATION:PT1H
X-Robots-Tag:noindex
X-PUBLISHED-TTL:PT1H
BEGIN:VTIMEZONE
TZID:Europe/London
BEGIN:DAYLIGHT
TZOFFSETFROM:+0000
TZOFFSETTO:+0100
TZNAME:BST
DTSTART:20210328T010000
END:DAYLIGHT
BEGIN:STANDARD
TZOFFSETFROM:+0100
TZOFFSETTO:+0000
TZNAME:GMT
DTSTART:20211031T010000
END:STANDARD
BEGIN:DAYLIGHT
TZOFFSETFROM:+0000
TZOFFSETTO:+0100
TZNAME:BST
DTSTART:20220327T010000
END:DAYLIGHT
BEGIN:STANDARD
TZOFFSETFROM:+0100
TZOFFSETTO:+0000
TZNAME:GMT
DTSTART:20221030T010000
END:STANDARD
BEGIN:DAYLIGHT
TZOFFSETFROM:+0000
TZOFFSETTO:+0100
TZNAME:BST
DTSTART:20230326T010000
END:DAYLIGHT
BEGIN:STANDARD
TZOFFSETFROM:+0100
TZOFFSETTO:+0000
TZNAME:GMT
DTSTART:20231029T010000
END:STANDARD
BEGIN:DAYLIGHT
TZOFFSETFROM:+0000
TZOFFSETTO:+0100
TZNAME:BST
DTSTART:20240331T010000
END:DAYLIGHT
BEGIN:STANDARD
TZOFFSETFROM:+0100
TZOFFSETTO:+0000
TZNAME:GMT
DTSTART:20241027T010000
END:STANDARD
BEGIN:DAYLIGHT
TZOFFSETFROM:+0000
TZOFFSETTO:+0100
TZNAME:BST
DTSTART:20250330T010000
END:DAYLIGHT
BEGIN:STANDARD
TZOFFSETFROM:+0100
TZOFFSETTO:+0000
TZNAME:GMT
DTSTART:20251026T010000
END:STANDARD
BEGIN:DAYLIGHT
TZOFFSETFROM:+0000
TZOFFSETTO:+0100
TZNAME:BST
DTSTART:20260329T010000
END:DAYLIGHT
BEGIN:STANDARD
TZOFFSETFROM:+0100
TZOFFSETTO:+0000
TZNAME:GMT
DTSTART:20261025T010000
END:STANDARD
END:VTIMEZONE
BEGIN:VEVENT
DTSTART;TZID=Europe/London:20250111T150000
DTEND;TZID=Europe/London:20250111T180000
DTSTAMP:20260420T135932
CREATED:20241222T155601Z
LAST-MODIFIED:20241222T155601Z
UID:8059-1736607600-1736618400@cumbriabellringing.org.uk
SUMMARY:Guild Ringing Meeting with Service and Tea
DESCRIPTION:Guild meeting with service and tea:  \nRingers of all abilities welcome \n3.00pm Ringing \n4.30pm Service \n5.00pm Bring and Share Tea followed by a short Business meeting \nThe bells will be available after the business meeting.
URL:https://cumbriabellringing.org.uk/event/guild-ringing-meeting-with-service-and-tea/
LOCATION:Workington\, Workington\, CA14 2EZ\, United Kingdom
CATEGORIES:Guild
END:VEVENT
BEGIN:VEVENT
DTSTART;TZID=Europe/London:20230520T160000
DTEND;TZID=Europe/London:20230520T173000
DTSTAMP:20260420T135932
CREATED:20230510T062458Z
LAST-MODIFIED:20230510T062458Z
UID:7042-1684598400-1684603800@cumbriabellringing.org.uk
SUMMARY:Surprise Major practice
DESCRIPTION:Monthly surprise major practice. Baseline of Cambridge and Yorkshire up to std 8 spliced\, and a special method of Glasgow. For more details please contact Norman Brock at nbrock@sky.com.
URL:https://cumbriabellringing.org.uk/event/surprise-major-practice-4/
LOCATION:Penrith\, Penrith\, CA11 7YA\, United Kingdom
CATEGORIES:Guild
ORGANIZER;CN="Norman Brock":MAILTO:nbrock@sky.com
END:VEVENT
BEGIN:VEVENT
DTSTART;TZID=Europe/London:20230513T140000
DTEND;TZID=Europe/London:20230513T180000
DTSTAMP:20260420T135932
CREATED:20221031T110746Z
LAST-MODIFIED:20230508T190320Z
UID:6465-1683986400-1684000800@cumbriabellringing.org.uk
SUMMARY:Guild striking competition
DESCRIPTION:The striking competition will be held in the afternoon at Crosthwaite/Keswick.  The Judge this year will be Simon Percy from Lancaster. There are the usual two competitions – the Call Change Band and the Method Band competition. You should enter the competition appropriate for the ringing your band normally does. \nThe competition is just for fun – it’s the taking part that matters! Unless you win – then it’s the winning that matters! There are trophies to be won and certificates for ALL bands – so you won’t go away empty-handed. \nThe schedule is as follows: \n14.00    Bells available for practice \n14.45    Draw for ringing order \n15.00    Competition Begins \nBring and share tea to follow. \nThe striking competition rules can be found here.
URL:https://cumbriabellringing.org.uk/event/guild-striking-competition-2/
CATEGORIES:Guild
ORGANIZER;CN="Sue Thomas":MAILTO:suethomas2022@icloud.com
END:VEVENT
BEGIN:VEVENT
DTSTART;TZID=Europe/London:20230422T133000
DTEND;TZID=Europe/London:20230422T180000
DTSTAMP:20260420T135932
CREATED:20221031T110607Z
LAST-MODIFIED:20230406T150302Z
UID:6463-1682170200-1682186400@cumbriabellringing.org.uk
SUMMARY:Guild ringing gathering and AGM
DESCRIPTION:Our Guild AGM is being held at Greystoke this year.  Timings are \n13:30 – 14:30 Ringing at Great Salkeld \n15:00 – 16:00 Ringing at Greystoke \n16:30 Service at Greystoke \n17:00 Bring and share tea\, Greystoke village hall \nAGM business meeting will follow the tea in the village hall.  Parking is available in the village hall.  Please drop off bring and share contributions before walking to the Church. \n20230422 Guild AGM Agenda v1. \nPeople may also be interested to know that the nearby Dalemain Marmalade festival is happening that day and may make an interesting visit earlier in the day. Bellringers get free entry to the festival as the Borders Mini-ring will be there showcasing bellringing and letting people “have a (supervised) go”. \n  \n 
URL:https://cumbriabellringing.org.uk/event/guild-agm-2/
LOCATION:Greystoke\, Church Road\, Penrith\, Cumrbia\, CA11 0TL\, United Kingdom
CATEGORIES:Guild
ATTACH;FMTTYPE=image/webp:https://cumbriabellringing.org.uk/wp-content/uploads/2023/04/greystoke-f50p7.webp
ORGANIZER;CN="Ed Matthews":MAILTO:info@bellringingincumbria.com
END:VEVENT
BEGIN:VEVENT
DTSTART;VALUE=DATE:20230317
DTEND;VALUE=DATE:20230318
DTSTAMP:20260420T135932
CREATED:20230125T212428Z
LAST-MODIFIED:20230125T212428Z
UID:6847-1679011200-1679097599@cumbriabellringing.org.uk
SUMMARY:Deadline for receipt of nominations for Young Ringer's Award
DESCRIPTION:Today is the last day for submitted nominations for the 2023 Young Ringer’s Award.
URL:https://cumbriabellringing.org.uk/event/deadline-for-receipt-of-nominations-for-young-ringers-award/
CATEGORIES:Guild
END:VEVENT
BEGIN:VEVENT
DTSTART;TZID=Europe/London:20230313T200000
DTEND;TZID=Europe/London:20230313T200000
DTSTAMP:20260420T135932
CREATED:20230131T223019Z
LAST-MODIFIED:20230131T223019Z
UID:6919-1678737600-1678737600@cumbriabellringing.org.uk
SUMMARY:Optional ringing for Commonwealth Day
DESCRIPTION:To mark the 10th anniversary of the signing of the Charter of the Commonwealth by our Late Majesty Queen Elizabeth II\, a Commonwealth of Nations Flag of Peace is being sent to every city in the UK to be raised on Monday 13th March.  Throughout the day\, there will be various ceremonies\, culminating in an invitation to ring bells at 8pm. \nA suggestion is that amongst any ringing done that day\, and specifically for this event\, a minimum of 10 whole pulls of Queens should be rung. \nFurther information can be found here.
URL:https://cumbriabellringing.org.uk/event/optional-ringing-for-commonwealth-day/
CATEGORIES:Guild
END:VEVENT
BEGIN:VEVENT
DTSTART;TZID=Europe/London:20230114T150000
DTEND;TZID=Europe/London:20230114T190000
DTSTAMP:20260420T135932
CREATED:20221031T110254Z
LAST-MODIFIED:20230108T211826Z
UID:6456-1673708400-1673722800@cumbriabellringing.org.uk
SUMMARY:Guild Ringing Meeting: Workington
DESCRIPTION:Guild meeting with service and tea \nRinging 3:00pm\, Service 4:30pm\, Tea & short meeting 5:00pm. \nThe bells will be available after tea until 7.00pm \nRingers of all abilities welcome – call changes to surprise major.  Focus Methods: Double Oxford Minor\, Double Norwich CB Major. \nNames for tea\, please\, by Wednesday 11th January 2023 to Pat Evans.
URL:https://cumbriabellringing.org.uk/event/guild-ringing-meeting/
LOCATION:Workington\, Workington\, CA14 2EZ\, United Kingdom
CATEGORIES:Guild
ORGANIZER;CN="Pat Evans":MAILTO:patmevans5@gmail.com
END:VEVENT
BEGIN:VEVENT
DTSTART;TZID=Europe/London:20221217T160000
DTEND;TZID=Europe/London:20221217T173000
DTSTAMP:20260420T135932
CREATED:20221202T081431Z
LAST-MODIFIED:20221202T081607Z
UID:6642-1671292800-1671298200@cumbriabellringing.org.uk
SUMMARY:Surprise major practice\, Wigton
DESCRIPTION:December’s surprise major practice will continue to focus on the standard 8 with Glasgow as the special method again. For further information or to make a request\, please contact Norman Brock at nbrock-at-sky.com.
URL:https://cumbriabellringing.org.uk/event/surprise-practice-wigton-3/
LOCATION:Wigton\, Wigton\, CA7 9NJ\, United Kingdom
CATEGORIES:Guild
ORGANIZER;CN="Norman Brock":MAILTO:nbrock@sky.com
END:VEVENT
BEGIN:VEVENT
DTSTART;TZID=Europe/London:20220709T130000
DTEND;TZID=Europe/London:20220709T163000
DTSTAMP:20260420T135932
CREATED:20220608T193525Z
LAST-MODIFIED:20220922T153943Z
UID:5989-1657371600-1657384200@cumbriabellringing.org.uk
SUMMARY:Bridekirk open day
DESCRIPTION:The ringers from Cockermouth and Bridekirk are running an open day as an awareness and recruitment event with talks\, demos and hands-on taster sessions planned.  If you can provide some support to assist\, you will be most welcome.  Please contact Diana Green for further information dianagreen62-at-gmail.com.
URL:https://cumbriabellringing.org.uk/event/bridekirk-open-day/
LOCATION:Bridekirk\, CA13 0PF
CATEGORIES:Guild,Western Branch
ORGANIZER;CN="Diana Green":MAILTO:diana&#039;at&#039;rdghome.fsnet.co.uk
END:VEVENT
BEGIN:VEVENT
DTSTART;TZID=Europe/London:20220108T150000
DTEND;TZID=Europe/London:20220108T183000
DTSTAMP:20260420T135932
CREATED:20210929T181239Z
LAST-MODIFIED:20220922T153953Z
UID:5983-1641654000-1641666600@cumbriabellringing.org.uk
SUMMARY:Open Ringing Meeting
DESCRIPTION:To be confirmed – subject to COVID-19 restrictions\nRinging from call changes to surprise major\nService\nRinger’s Tea
URL:https://cumbriabellringing.org.uk/event/open-ringing-meeting/
LOCATION:Workington\, Workington\, CA14 2EZ\, United Kingdom
CATEGORIES:Guild
ORGANIZER;CN="Gareth Evans":MAILTO:martin.evans5@sky.com
END:VEVENT
END:VCALENDAR